BEGIN:VCALENDAR
VERSION:2.0
PRODID:-//more-than-human - ECPv6.15.20//NONSGML v1.0//EN
CALSCALE:GREGORIAN
METHOD:PUBLISH
X-WR-CALNAME:more-than-human
X-ORIGINAL-URL:https://morethanhuman.events
X-WR-CALDESC:Events for more-than-human
REFRESH-INTERVAL;VALUE=DURATION:PT1H
X-Robots-Tag:noindex
X-PUBLISHED-TTL:PT1H
BEGIN:VTIMEZONE
TZID:America/Los_Angeles
BEGIN:DAYLIGHT
TZOFFSETFROM:-0800
TZOFFSETTO:-0700
TZNAME:PDT
DTSTART:20250309T100000
END:DAYLIGHT
BEGIN:STANDARD
TZOFFSETFROM:-0700
TZOFFSETTO:-0800
TZNAME:PST
DTSTART:20251102T090000
END:STANDARD
BEGIN:DAYLIGHT
TZOFFSETFROM:-0800
TZOFFSETTO:-0700
TZNAME:PDT
DTSTART:20260308T100000
END:DAYLIGHT
BEGIN:STANDARD
TZOFFSETFROM:-0700
TZOFFSETTO:-0800
TZNAME:PST
DTSTART:20261101T090000
END:STANDARD
BEGIN:DAYLIGHT
TZOFFSETFROM:-0800
TZOFFSETTO:-0700
TZNAME:PDT
DTSTART:20270314T100000
END:DAYLIGHT
BEGIN:STANDARD
TZOFFSETFROM:-0700
TZOFFSETTO:-0800
TZNAME:PST
DTSTART:20271107T090000
END:STANDARD
END:VTIMEZONE
BEGIN:VEVENT
DTSTART;TZID=America/Los_Angeles:20260512T170000
DTEND;TZID=America/Los_Angeles:20260512T180000
DTSTAMP:20260424T015152
CREATED:20260405T054442Z
LAST-MODIFIED:20260405T054442Z
UID:10001444-1778605200-1778608800@morethanhuman.events
SUMMARY:Natural History Book\, Lake Oswego Public Library
DESCRIPTION:The Natural History Book Group was founded on the recognition that Indigenous peoples have maintained a deep and reciprocal relationship with the land now known as Lake Oswego for millennia\, the group acknowledges this history as an essential grounding for its work. Through participant-selected readings that focus on Traditional Ecological Knowledge\, members explore how literature and nonfiction can deepen our understanding of the watershed and its indigenous history\, while inspiring practical steps toward a more just relationship with both the land we call home and its original caretakers. \nLed by the Lake Oswego Watershed Council\, this group meets bi-monthly on the second Tuesday of every other month (January\, March\, May\, July\, September\, and November) at 5:00pm. We meet at the Lake Oswego Public Library in the second-floor conference room. New members are welcome. \nOur Next Book\nDiscover the deep history of land stewardship and Indigenous plant knowledge in Keeping It Living: Traditions of Plant Use and Cultivation on the Northwest Coast of North America\, edited by Douglas E. Deur and Nancy J. Turner. \nWhen: Tuesday\, May 12\, 2026 | 5:00–6:30 pm\nWhere:  Lake Oswego Public Library 706 4th St\, Lake Oswego \nThis groundbreaking collection explores how Indigenous communities across the Pacific Northwest actively cultivated and cared for the landscapes that sustained them for thousands of years. Drawing on research from ethnobotanists\, ecologists\, archaeologists\, and Indigenous knowledge holders\, the book reveals sophisticated land management practices—from tending camas prairies and wapato wetlands to cultivating berry patches and forest gardens. \nKeeping It Living challenges the long-held myth that the region’s ecosystems were untouched wilderness\, showing instead how cultural traditions and ecological knowledge shaped resilient and productive landscapes. Through stories of plant stewardship and traditional ecological knowledge\, the book invites readers to reconsider how people and ecosystems can thrive together. \n\n\n	Related
URL:https://morethanhuman.events/event/natural-history-book-lake-oswego-public-library/
LOCATION:Lake Oswego Public Library\, 706 4th St\, Lake Oswego\, OR\, United States
ATTACH;FMTTYPE=image/png:https://morethanhuman.events/wp-content/uploads/2026/04/image-5.png
END:VEVENT
END:VCALENDAR