BEGIN:VCALENDAR
VERSION:2.0
PRODID:-//more-than-human - ECPv6.15.20//NONSGML v1.0//EN
CALSCALE:GREGORIAN
METHOD:PUBLISH
X-WR-CALNAME:more-than-human
X-ORIGINAL-URL:https://morethanhuman.events
X-WR-CALDESC:Events for more-than-human
REFRESH-INTERVAL;VALUE=DURATION:PT1H
X-Robots-Tag:noindex
X-PUBLISHED-TTL:PT1H
BEGIN:VTIMEZONE
TZID:America/Los_Angeles
BEGIN:DAYLIGHT
TZOFFSETFROM:-0800
TZOFFSETTO:-0700
TZNAME:PDT
DTSTART:20250309T100000
END:DAYLIGHT
BEGIN:STANDARD
TZOFFSETFROM:-0700
TZOFFSETTO:-0800
TZNAME:PST
DTSTART:20251102T090000
END:STANDARD
BEGIN:DAYLIGHT
TZOFFSETFROM:-0800
TZOFFSETTO:-0700
TZNAME:PDT
DTSTART:20260308T100000
END:DAYLIGHT
BEGIN:STANDARD
TZOFFSETFROM:-0700
TZOFFSETTO:-0800
TZNAME:PST
DTSTART:20261101T090000
END:STANDARD
BEGIN:DAYLIGHT
TZOFFSETFROM:-0800
TZOFFSETTO:-0700
TZNAME:PDT
DTSTART:20270314T100000
END:DAYLIGHT
BEGIN:STANDARD
TZOFFSETFROM:-0700
TZOFFSETTO:-0800
TZNAME:PST
DTSTART:20271107T090000
END:STANDARD
END:VTIMEZONE
BEGIN:VEVENT
DTSTART;TZID=America/Los_Angeles:20260426T140000
DTEND;TZID=America/Los_Angeles:20260426T160000
DTSTAMP:20260422T034539
CREATED:20260410T233109Z
LAST-MODIFIED:20260410T233109Z
UID:10001452-1777212000-1777219200@morethanhuman.events
SUMMARY:Get to Know the Tree Guide Trees - Friends of Mt Tabor Park
DESCRIPTION:Part of the free Urban Nature Series.\n2 pm–4 pm\, meet at the Visitors Center \nGet to Know the Tree Guide Trees\nJoin Tree Guide creator Lisa Wilcke to learn what earned each tree its inclusion in the guide. \nThis walk will explore Trees of the Off Leash Dog Area. Please gather near the entrance of the Off Leash Dog Area by SE Lincoln St. and we will explore the trees in this area of the park. Register here. \n\n\n	Related
URL:https://morethanhuman.events/event/get-to-know-the-tree-guide-trees-friends-of-mt-tabor-park/
LOCATION:SE 64th Ave & SE Lincoln St\, SE 64th Ave & SE Lincoln St\, Portland\, or\, 97215\, United States
CATEGORIES:Nature Walks,Plants / Botany,Tree ID
ATTACH;FMTTYPE=image/png:https://morethanhuman.events/wp-content/uploads/2026/04/image-6.png
GEO:45.5081;-122.597786
X-APPLE-STRUCTURED-LOCATION;VALUE=URI;X-ADDRESS=SE 64th Ave & SE Lincoln St SE 64th Ave & SE Lincoln St Portland or 97215 United States;X-APPLE-RADIUS=500;X-TITLE=SE 64th Ave & SE Lincoln St:geo:-122.597786,45.5081
END:VEVENT
END:VCALENDAR